BEGIN:VCALENDAR
VERSION:2.0
PRODID:-//ChamberMaster//Event Calendar 2.0//EN
METHOD:PUBLISH
X-PUBLISHED-TTL:P3D
REFRESH-INTERVAL:P3D
CALSCALE:GREGORIAN
BEGIN:VEVENT
DTSTART:20140130T150000Z
DTEND:20140130T180000Z
X-MICROSOFT-CDO-ALLDAYEVENT:FALSE
SUMMARY:Checkpoint 2014: Aligning Veterans for Success in Business
DESCRIPTION:At the TRUST VETS November summit\, providing assistance to Veterans who wish to start or grow a business was identified as a priority\; Checkpoint 2014 is designed to address the issue and align Veterans for success in our community. This event will feature an expert panel that will discuss Business Law\, Estate Planning\, Ethical Standards\, SBA and Traditional Funding\, and Veteran Specific Funding & Resources. It will also feature special guest speaker\, Mr. Barry Bridger\, who will speak of his experiences as a POW and how they helped to shape his priorities in life. Bridger\, a decorated airman\, spent more than 6 years in captivity at the infamous "Hanoi Hilton" prison.\n\n \n\nEvent sponsor: First Command Financial Services\n\n\n\nThe event is open to the public and an RSVP is required via http://www.trustvets.com/january.
X-ALT-DESC;FMTTYPE=text/html:<br />\nAt the TRUST VETS November summit\, providing assistance to Veterans who wish to start or grow a business was identified as a priority\; Checkpoint 2014 is designed to address the issue and align Veterans for success in our community. This event will feature an expert panel that will discuss Business Law\, Estate Planning\, Ethical Standards\, SBA and Traditional Funding\, and Veteran Specific Funding &amp\; Resources. It will also feature special guest speaker\, Mr. Barry Bridger\, who will speak of his experiences as a POW and how they helped to shape his priorities in life. Bridger\, a decorated airman\, spent more than 6 years in captivity at the infamous &ldquo\;Hanoi Hilton&rdquo\; prison.<br />\n&nbsp\;<br />\nEvent sponsor: First Command Financial Services<br />\n<br />\nThe event is open to the public and an RSVP is required via <u><a href="http://www.trustvets.com/january"><span style="color:#0000ff\;">http://www.trustvets.com/january</span></a></u>.
LOCATION:Rasmussen College Blaine Campus 3629 95th Ave NE
UID:e.380.150145
SEQUENCE:3
DTSTAMP:20260424T093026Z
URL:http://members.metronorthchamber.org/events/details/checkpoint-2014-aligning-veterans-for-success-in-business-01-30-2014-150145
END:VEVENT

END:VCALENDAR
