BEGIN:VCALENDAR
VERSION:2.0
PRODID:-//ChamberMaster//Event Calendar 2.0//EN
METHOD:PUBLISH
X-PUBLISHED-TTL:P3D
REFRESH-INTERVAL:P3D
CALSCALE:GREGORIAN
BEGIN:VEVENT
DTSTART;VALUE=DATE:20171014
DTEND;VALUE=DATE:20171015
TRANSP:TRANSPARENT
X-MICROSOFT-CDO-ALLDAYEVENT:TRUE
SUMMARY:Chaos Family Fun 5k Walk/Run
DESCRIPTION:Physical Therapy Consultants\, Inc would like to cordially invite you to participate in the Chaos Family Fun 5k Walk/Run. This event will raise money to support a local\, non-profit organization\, Citizens Supporting Our Armed Forces. The event will be held on Saturday\, October 14\, 2017.\n\n\n\nCitizens Supporting Our Armed Forces (CSOAF) is a 100% volunteer\, non-profit organization dedicated to raising community support and awareness for our Armed Forces. They do this by shipment of care packages to deployed troops\, providing assistance to military families and actively engaging the public through various military support events. CSOAF supports all branches of Armed Forces with a primary commitment to the troops and families of the Minnesota National Guard.\n\n\n\nLast year\, Physical Therapy Consultants\, Inc and surrounding communities raised $2\,680 and collected over 500 donation items. Contributions made to CSOAF allowed the organization to send shipments that averaged 1\,000 pounds and benefited 10 deployed units throughout the world\, including ships abroad. Care packages were also sent to troops that were recovering from injuries at hospitals around the United States. It is our goal this year to raise $4\,000 and collect over 700 donation items for CSOAF. \n\n\n\nWe will be accepting sponsorships and donations until September 9\, 2017 however sponsorship forms received before August 1\, 2017 will be advertised on our marketing items. For more information regarding this\, please contact Jackie.
X-ALT-DESC;FMTTYPE=text/html:Physical Therapy Consultants\, Inc would like to cordially invite you to participate in the Chaos Family Fun 5k Walk/Run. This event will raise money to support a local\, non-profit organization\, Citizens Supporting Our Armed Forces. The event will be held on Saturday\, October 14\, 2017.<br />\n<br />\nCitizens Supporting Our Armed Forces (CSOAF) is a 100% volunteer\, non-profit organization dedicated to raising community support and awareness for our Armed Forces. They do this by shipment of care packages to deployed troops\, providing assistance&nbsp\;to military families and actively engaging the public through various military support events. CSOAF supports all branches of Armed Forces with a primary commitment to the troops and families of the Minnesota National Guard.<br />\n<br />\nLast year\, Physical Therapy Consultants\, Inc and surrounding communities raised $2\,680 and collected over 500 donation items. Contributions made to CSOAF allowed the organization to send shipments that averaged 1\,000 pounds and benefited 10 deployed units throughout the world\, including ships abroad. Care packages were also sent to troops that were recovering from injuries at hospitals around the United States. It is our goal this year to raise $4\,000 and collect over 700 donation items for CSOAF.&nbsp\;<br />\n<br />\nWe will be accepting sponsorships and donations until September 9\, 2017 however sponsorship forms received before August 1\, 2017 will be advertised on our marketing items. For more information regarding this\, please contact Jackie.
LOCATION:Rum River North County Park (West of St. Francis High School)
UID:e.380.175280
SEQUENCE:3
DTSTAMP:20260421T094045Z
URL:http://members.metronorthchamber.org/events/details/chaos-family-fun-5k-walk-run-175280
END:VEVENT

END:VCALENDAR
