BEGIN:VCALENDAR
VERSION:2.0
PRODID:-//ChamberMaster//Event Calendar 2.0//EN
METHOD:PUBLISH
X-PUBLISHED-TTL:P3D
REFRESH-INTERVAL:P3D
CALSCALE:GREGORIAN
BEGIN:VEVENT
DTSTART:20161216T230000Z
DTEND:20161217T020000Z
X-MICROSOFT-CDO-ALLDAYEVENT:FALSE
SUMMARY:Champion's Dream Fundraiser
DESCRIPTION:Join us for an evening of holiday shopping to support Champion's Dream\, a local non-profit that helps make participation in taekwondo available for those in need!  Chema Malu will donate 20% of sales. Amy Weber-DeRaad of Mary Kay will donate 30% of orders.\n\n\n\nChampion's Dream is a non-profit organization whose mission is to: \n\n  Provide scholarships to people with special needs or who cannot afford to take martial arts lessons\n\n  Connect with youth organizations to provide alternative healthy life styles by teaching them martial arts and provide safety seminars to local youth groups\n\n  Provide scholarships to World Taekwondo Academy (WTA) Competition Team athletes to participate in higher level training seminars or camps\n\n  Provide coaching fees\, tournament and traveling expenses to the WTA Competition Team and Coaches\n\n  Development of WTA's Competition Team members for local\, national\, international and Olympic events\n\n  Purchase equipment necessary for the development of the WTA Competition Team members\n\n  Development of WTA Competition Team coaching staff\n\n\n\nYOU can make a difference!!
X-ALT-DESC;FMTTYPE=text/html:<span style="color:rgb(29\, 33\, 41)\; font-family:helvetica neue\,helvetica\,arial\,sans-serif\; font-size:14px">Join us for an evening of holiday shopping to support Champion&#39\;s Dream\, a local non-profit that helps make participation in taekwondo available for those in need! &nbsp\;Chema Malu will donate 20% of sales. Amy Weber-DeRaad of Mary Kay will donate 30% of orders.<br />\n<br />\nChampion&rsquo\;s Dream is a non-profit organization whose mission is to:&nbsp\;</span><br />\n<span style="color:rgb(29\, 33\, 41)\; font-family:helvetica neue\,helvetica\,arial\,sans-serif\; font-size:14px">&bull\; Provide scholarships to people with special needs or who cannot afford to take martial arts lessons</span><br />\n<span style="color:rgb(29\, 33\, 41)\; font-family:helvetica neue\,helvetica\,arial\,sans-serif\; font-size:14px">&bull\; Connect with youth organizations to provide alternative healthy life styles by teaching them martial arts and provide safety seminars to local youth groups</span><br />\n<span style="color:rgb(29\, 33\, 41)\; font-family:helvetica neue\,helvetica\,arial\,sans-serif\; font-size:14px">&bull\; Provide scholarships to World Taekwondo Academy (WTA) Competition Team</span><span style="color:rgb(29\, 33\, 41)\; font-family:helvetica neue\,helvetica\,arial\,sans-serif\; font-size:14px">&nbsp\;athletes to participate in higher level training seminars or camps<br />\n&bull\; Provide coaching fees\, tournament and traveling expenses to the WTA Competition Team and Coaches<br />\n&bull\; Development of WTA&rsquo\;s Competition Team members for local\, national\, international and Olympic events<br />\n&bull\; Purchase equipment necessary for the development of the WTA Competition Team members<br />\n&bull\; Development of WTA Competition Team coaching staff</span><br />\n<br />\n<span style="color:rgb(29\, 33\, 41)\; font-family:helvetica neue\,helvetica\,arial\,sans-serif\; font-size:14px">YOU can make a difference!!</span>
LOCATION:Chema Malu 208 East Main Street Anoka\, MN 55303
UID:e.380.170890
SEQUENCE:3
DTSTAMP:20260421T235307Z
URL:http://members.metronorthchamber.org/events/details/champion-s-dream-fundraiser-170890
END:VEVENT

END:VCALENDAR
