BEGIN:VCALENDAR
VERSION:2.0
PRODID:-//ChamberMaster//Event Calendar 2.0//EN
METHOD:PUBLISH
X-PUBLISHED-TTL:P3D
REFRESH-INTERVAL:P3D
CALSCALE:GREGORIAN
BEGIN:VEVENT
DTSTART:20170627T230000Z
DTEND:20170628T030000Z
X-MICROSOFT-CDO-ALLDAYEVENT:FALSE
SUMMARY:Chamber Night at Running Aces Casino & Racetrack
DESCRIPTION:Running Aces Casino & Racetrack will be hosting their popular annual Chamber Night on Tuesday\, June 27th - first race at 7pm.  All Chamber of Commerce members are invited and will receive a live racing program\, $10 match bet\, $5 food coupon\, free trout pond fishing pole rental\, and a deck of playing cards. Check in at the Registration table to receive your packet. Please RSVP to events@runaces.com - then stop at the Registration Table in the Atrium to receive your Chamber packet.
X-ALT-DESC;FMTTYPE=text/html:<span style="color: rgb(51\, 51\, 51)\; font-family: sans-serif\, Arial\, Verdana\, &quot\;Trebuchet MS&quot\;\; font-size: 14px\;"><span style="color: rgb(34\, 34\, 34)\;"><span style="font-family: arial\, sans-serif\;"><a href="http://www.runaces.com/" style="color: rgb(7\, 130\, 193)\;" target="_blank">Running Aces Casino &amp\; Racetrack</a>&nbsp\;will be hosting their popular annual Chamber Night on&nbsp\;<strong>Tuesday\, June&nbsp\;27th&nbsp\;- first race at 7pm</strong>.&nbsp\; All Chamber of Commerce members are invited and will receive a live racing program\, $10 match bet\, $5 food coupon\, free trout pond fishing pole rental\, and a deck of playing cards.&nbsp\;</span></span><span style="line-height: 20.8px\;">Check in at the Registration table to&nbsp\;receive</span><span style="line-height: 20.8px\;">&nbsp\;your packet.</span></span><span style="color: rgb(51\, 51\, 51)\; font-family: sans-serif\, Arial\, Verdana\, &quot\;Trebuchet MS&quot\;\; font-size: 14px\;"><span style="color: rgb(34\, 34\, 34)\;"><span style="font-family: arial\, sans-serif\;">&nbsp\;Please RSVP to events@runaces.com - then stop at the Registration Table in the Atrium to receive your Chamber packet. &nbsp\;</span></span></span>
LOCATION:Running Aces Casino & Racetrack 15201 Zurich Street NE Columbus\, MN 55025-7908
UID:e.380.171389
SEQUENCE:3
DTSTAMP:20260421T135634Z
URL:http://members.metronorthchamber.org/events/details/chamber-night-at-running-aces-casino-racetrack-171389
END:VEVENT

END:VCALENDAR
