BEGIN:VCALENDAR
VERSION:2.0
PRODID:-//ChamberMaster//Event Calendar 2.0//EN
METHOD:PUBLISH
X-PUBLISHED-TTL:P3D
REFRESH-INTERVAL:P3D
CALSCALE:GREGORIAN
BEGIN:VEVENT
DTSTART:20150714T220000Z
DTEND:20150715T000000Z
X-MICROSOFT-CDO-ALLDAYEVENT:FALSE
SUMMARY:Chamber Night at Running Aces Casino & Racetrack
DESCRIPTION:Network and enjoy a night at the track in our private skybox during this special multi-chamber and local business event!\n\n\n\nEnjoy Hors d'oeuvres\, cash bar\, gaming coupons\, prize drawings. Stay for the races and receive a live racing gift pack!
X-ALT-DESC;FMTTYPE=text/html:Network and enjoy a night at the track in our private skybox during this special multi-chamber and local business event!<br />\n<br />\nEnjoy Hors d&#39\;oeuvres\, cash bar\, gaming coupons\, prize drawings. Stay for the races and receive a live racing gift pack!
LOCATION:Running Aces Casino & Racetrack 15201 Running Aces Blvd Columbus\, MN 55025
UID:e.380.157870
SEQUENCE:3
DTSTAMP:20260423T055523Z
URL:http://members.metronorthchamber.org/events/details/chamber-night-at-running-aces-casino-racetrack-07-14-2015-157870
END:VEVENT

END:VCALENDAR
