BEGIN:VCALENDAR
VERSION:2.0
PRODID:-//ChamberMaster//Event Calendar 2.0//EN
METHOD:PUBLISH
X-PUBLISHED-TTL:P3D
REFRESH-INTERVAL:P3D
CALSCALE:GREGORIAN
BEGIN:VEVENT
DTSTART:20190116T230000Z
DTEND:20190117T000000Z
X-MICROSOFT-CDO-ALLDAYEVENT:FALSE
SUMMARY:Chamber Networking Evening at Ramsey Physical Therapy
DESCRIPTION:Join us for a fun evening of relaxation\, mingling and snacks on Wednesday\, January 16th\, 2019. Enjoy some snacks and a sparkling water bar while getting to know your fellow colleagues in a relaxing environment.
X-ALT-DESC;FMTTYPE=text/html:Join us for a fun evening of relaxation\, mingling and snacks on Wednesday\, January 16th\, 2019. Enjoy some snacks and a sparkling water bar while getting to know your fellow colleagues in a relaxing environment.&nbsp\;
LOCATION:Ramsey Physical Therapy 7876 Sunwood Dr Ramsey\, MN 55303
UID:e.380.187549
SEQUENCE:3
DTSTAMP:20260420T103833Z
URL:http://members.metronorthchamber.org/events/details/chamber-networking-evening-at-ramsey-physical-therapy-187549
END:VEVENT

END:VCALENDAR
