BEGIN:VCALENDAR
VERSION:2.0
PRODID:-//ChamberMaster//Event Calendar 2.0//EN
METHOD:PUBLISH
X-PUBLISHED-TTL:P3D
REFRESH-INTERVAL:P3D
CALSCALE:GREGORIAN
BEGIN:VEVENT
DTSTART:20130924T213000Z
DTEND:20130924T230000Z
X-MICROSOFT-CDO-ALLDAYEVENT:FALSE
SUMMARY:Chamber FLASH MOB
DESCRIPTION:On the last Tuesday at 4:30pm of every month\, we invite all MetroNorth Chamber members to join us at a chamber restaurant to make connections. No RSVP\, no cost.
X-ALT-DESC;FMTTYPE=text/html:<br />\n<span style="color:#000080\;"><span style="font-size: 11px\;"><span style="font-family: tahoma\;"><span _mce_style="font-family: Tahoma\, Arial\, Helvetica\, sans-serif\; font-size: 9pt\;"><span><span>On the last Tuesday at 4:30pm of every month\, we invite all MetroNorth Chamber members to join us at a chamber restaurant to make connections. No RSVP\, no cost.</span></span></span></span></span></span>
LOCATION:Biff's Billiards & Sports Bar 7777 Highway 65 NE Spring Lake Park\, MN 55432
UID:e.380.148028
SEQUENCE:3
DTSTAMP:20260424T161555Z
URL:http://members.metronorthchamber.org/events/details/chamber-flash-mob-09-24-2013-148028
END:VEVENT

END:VCALENDAR
