BEGIN:VCALENDAR
VERSION:2.0
PRODID:-//ChamberMaster//Event Calendar 2.0//EN
METHOD:PUBLISH
X-PUBLISHED-TTL:P3D
REFRESH-INTERVAL:P3D
CALSCALE:GREGORIAN
BEGIN:VEVENT
DTSTART:20130528T213000Z
DTEND:20130528T230000Z
X-MICROSOFT-CDO-ALLDAYEVENT:FALSE
SUMMARY:Chamber FLASH MOB
DESCRIPTION:On the last Tuesday at 4:30pm of every month\, we invite all MetroNorth Chamber members to join us at a chamber restaurant for some informal and spontaneous networking. No RSVP\, no cost.\n\n\n\nThis month join us for happy hour on the patio at The Well Sports Tavern & Grill in Coon Rapids!
X-ALT-DESC;FMTTYPE=text/html:<br />\n<span style="color:#000080\;"><span style="font-size: 11px\;"><span style="font-family: tahoma\;"><span _mce_style="font-family: Tahoma\, Arial\, Helvetica\, sans-serif\; font-size: 9pt\;"><span><span>On the last Tuesday at 4:30pm of every month\, we invite all MetroNorth Chamber members to join us at a chamber restaurant for some informal and spontaneous networking. No RSVP\, no cost.<br />\n<br />\nThis month join us for happy hour on the patio at </span></span></span></span></span></span><span style="font-size:11px\;"><span style="font-family: tahoma\;"><span style="color: rgb(0\, 0\, 128)\;"><span><span>The Well Sports Tavern &amp\; Grill in Coon Rapids!</span></span></span></span></span><br />\n
LOCATION:The Well Sports Tavern & Grill 35 Coon Rapids Boulevard NW Coon Rapids\, MN 55448
UID:e.380.148024
SEQUENCE:3
DTSTAMP:20260424T223648Z
URL:http://members.metronorthchamber.org/events/details/chamber-flash-mob-05-28-2013-148024
END:VEVENT

END:VCALENDAR
