BEGIN:VCALENDAR
VERSION:2.0
PRODID:-//ChamberMaster//Event Calendar 2.0//EN
METHOD:PUBLISH
X-PUBLISHED-TTL:P3D
REFRESH-INTERVAL:P3D
CALSCALE:GREGORIAN
BEGIN:VEVENT
DTSTART:20130430T213000Z
DTEND:20130430T230000Z
X-MICROSOFT-CDO-ALLDAYEVENT:FALSE
SUMMARY:Chamber FLASH MOB
DESCRIPTION:On the last Tuesday at 4:30pm of every month\, we invite all MetroNorth Chamber members to join us at a chamber restaurant for some informal and spontaneous networking. No RSVP\, no cost.\n\n\n\nJoin us for our next event at Buffalo Wild Wings in Coon Rapids - the first 25 attendees will get a special prize giveaway!
X-ALT-DESC;FMTTYPE=text/html:<br />\n<span style="color:#000080\;"><span style="font-size: 11px\;"><span style="font-family: tahoma\;"><span _mce_style="font-family: Tahoma\, Arial\, Helvetica\, sans-serif\; font-size: 9pt\;"><span><span>On the last Tuesday at 4:30pm of every month\, we invite all MetroNorth Chamber members to join us at a chamber restaurant for some informal and spontaneous networking. No RSVP\, no cost.<br />\n<br />\nJoin us for our next event at Buffalo Wild Wings in Coon Rapids - the first 25 attendees will get a special prize giveaway!</span></span></span></span></span></span><br />\n
LOCATION:Buffalo Wild Wings\, Coon Rapids 3395 River Rapids Dr
UID:e.380.148023
SEQUENCE:3
DTSTAMP:20260425T015555Z
URL:http://members.metronorthchamber.org/events/details/chamber-flash-mob-04-30-2013-148023
END:VEVENT

END:VCALENDAR
