BEGIN:VCALENDAR
VERSION:2.0
PRODID:-//ChamberMaster//Event Calendar 2.0//EN
METHOD:PUBLISH
X-PUBLISHED-TTL:P3D
REFRESH-INTERVAL:P3D
CALSCALE:GREGORIAN
BEGIN:VEVENT
DTSTART:20130326T213000Z
DTEND:20130326T230000Z
X-MICROSOFT-CDO-ALLDAYEVENT:FALSE
SUMMARY:Chamber FLASH MOB
DESCRIPTION:On the last Tuesday at 4:30pm of every month\, we invite all MetroNorth Chamber members to join us at a chamber restaurant for some informal and spontaneous networking. No RSVP\, no cost.\n\n\n\nThis month we'll be at The Shortstop in Coon Rapids! Have some fun and network with other Chamber members. AND\, if you're so inclined\, stick around for bingo at 6:30pm!
X-ALT-DESC;FMTTYPE=text/html:<br />\n<span style="color:#000080\;"><span style="font-size: 11px\;"><span _mce_style="font-family: Tahoma\, Arial\, Helvetica\, sans-serif\; font-size: 9pt\;"><span><span>On the last Tuesday at 4:30pm of every month\, we invite all MetroNorth Chamber members to join us at a chamber restaurant for some informal and spontaneous networking. No RSVP\, no cost.</span></span></span></span></span><br />\n<br />\n<span style="font-size:11px\;"><span style="font-family: tahoma\;"><span style="color: rgb(0\, 0\, 128)\;">This month we&#39\;ll be at The Shortstop in Coon Rapids!</span><span style="color: rgb(0\, 0\, 128)\;"> Have some fun and network with other Chamber members. AND\, if you&#39\;re so inclined\, stick around for bingo at 6:30pm!</span></span></span>
LOCATION:The Shortstop 421 Northdale Blvd\, Coon Rapids
UID:e.380.148022
SEQUENCE:3
DTSTAMP:20260425T015636Z
URL:http://members.metronorthchamber.org/events/details/chamber-flash-mob-03-26-2013-148022
END:VEVENT

END:VCALENDAR
