BEGIN:VCALENDAR
VERSION:2.0
PRODID:-//ChamberMaster//Event Calendar 2.0//EN
METHOD:PUBLISH
X-PUBLISHED-TTL:P3D
REFRESH-INTERVAL:P3D
CALSCALE:GREGORIAN
BEGIN:VEVENT
DTSTART:20130226T223000Z
DTEND:20130227T000000Z
X-MICROSOFT-CDO-ALLDAYEVENT:FALSE
SUMMARY:Chamber FLASH MOB
DESCRIPTION:On the last Tuesday at 4:30pm of every month\, we invite all MetroNorth Chamber members to join us at a chamber restaurant for some informal and spontaneous networking. No RSVP\, no cost.\n\n\n\nFor our February Flash Mob we're showing up at Majestic Oaks\, where members will get a sneak peak of the current Dinner Theatre show performed by the Seasons!
X-ALT-DESC;FMTTYPE=text/html:<br />\n<span style="color:#000080\;"><span style="font-size: 11px\;"><span style="font-family: tahoma\;"><span _mce_style="font-family: Tahoma\, Arial\, Helvetica\, sans-serif\; font-size: 9pt\;"><span><span>On the last Tuesday at 4:30pm of every month\, we invite all MetroNorth Chamber members to join us at a chamber restaurant for some informal and spontaneous networking. No RSVP\, no cost.</span></span></span><br />\n<br />\nFor our February Flash Mob we&#39\;re showing up at Majestic Oaks\, where members will get a sneak peak of the current Dinner Theatre show performed by the Seasons!</span></span></span>
LOCATION:Majestic Oaks Golf Club 701 Bunker Lake Blvd. Ham Lake\, MN 55304
UID:e.380.148021
SEQUENCE:3
DTSTAMP:20260425T032512Z
URL:http://members.metronorthchamber.org/events/details/chamber-flash-mob-02-26-2013-148021
END:VEVENT

END:VCALENDAR
