BEGIN:VCALENDAR
VERSION:2.0
PRODID:-//ChamberMaster//Event Calendar 2.0//EN
METHOD:PUBLISH
X-PUBLISHED-TTL:P3D
REFRESH-INTERVAL:P3D
CALSCALE:GREGORIAN
BEGIN:VEVENT
DTSTART:20160511T123000Z
DTEND:20160511T140000Z
X-MICROSOFT-CDO-ALLDAYEVENT:FALSE
SUMMARY:CEU Opportunity "Understanding the Hospice Medicare Benefit"
DESCRIPTION:Join us for this CEU opportunity and review the history of hospice\, understand Medicare hospice benefits\, services provided and more!  RSVP's appreciated  763-772-4492
X-ALT-DESC;FMTTYPE=text/html:Join us for this CEU opportunity and review the history of hospice\, understand Medicare hospice benefits\, services provided and more! &nbsp\;RSVP&#39\;s appreciated &nbsp\;763-772-4492<br />\n<br />\n&nbsp\;
LOCATION:3715 Coon Rapids Blvd NW\, Coon Rapids MN 55433
UID:e.380.168215
SEQUENCE:3
DTSTAMP:20260422T120716Z
URL:http://members.metronorthchamber.org/events/details/ceu-opportunity-understanding-the-hospice-medicare-benefit-05-11-2016-168215
END:VEVENT

END:VCALENDAR
