BEGIN:VCALENDAR
VERSION:2.0
PRODID:-//ChamberMaster//Event Calendar 2.0//EN
METHOD:PUBLISH
X-PUBLISHED-TTL:P3D
REFRESH-INTERVAL:P3D
CALSCALE:GREGORIAN
BEGIN:VEVENT
DTSTART:20160628T123000Z
DTEND:20160628T140000Z
X-MICROSOFT-CDO-ALLDAYEVENT:FALSE
SUMMARY:CEU Event
DESCRIPTION:Free CEU Event\n\nWe need to talk: Strategies to make Tough Conversation Easier!-presented by Lifesprk !
X-ALT-DESC;FMTTYPE=text/html:Free CEU Event<br />\n<span style="font-family:arial\,sans-serif"><span style="font-size:8pt">We need to talk: Strategies to make Tough Conversation Easier!-presented by Lifesprk !</span></span><br />\n<br />\n<br />\n&nbsp\;
LOCATION:3715 Coon Rapids Blvd NW Coon Rapids MN
UID:e.380.168624
SEQUENCE:3
DTSTAMP:20260422T102354Z
URL:http://members.metronorthchamber.org/events/details/ceu-event-06-28-2016-168624
END:VEVENT

END:VCALENDAR
