BEGIN:VCALENDAR
VERSION:2.0
PRODID:-//ChamberMaster//Event Calendar 2.0//EN
METHOD:PUBLISH
X-PUBLISHED-TTL:P3D
REFRESH-INTERVAL:P3D
CALSCALE:GREGORIAN
BEGIN:VEVENT
DTSTART:20151024T184500Z
DTEND:20151024T194500Z
X-MICROSOFT-CDO-ALLDAYEVENT:FALSE
SUMMARY:Central Park Liquor - Ribbon Cutting
DESCRIPTION:Central Park Liquor will be holding a Grand Reopening on Saturday October 24 at 1:45pm.
X-ALT-DESC;FMTTYPE=text/html:<span style="font-family: arial\;">Central Park Liquor will be holding a Grand Reopening on Saturday October 24 at 1:45pm.</span>&nbsp\;
LOCATION:Central Park Liquor 8101 Hwy 65 NE Spring Lake Park\, MN 55432
UID:e.380.159557
SEQUENCE:3
DTSTAMP:20260422T234659Z
URL:http://members.metronorthchamber.org/events/details/central-park-liquor-ribbon-cutting-10-24-2015-159557
END:VEVENT

END:VCALENDAR
