BEGIN:VCALENDAR
VERSION:2.0
PRODID:-//ChamberMaster//Event Calendar 2.0//EN
METHOD:PUBLISH
X-PUBLISHED-TTL:P3D
REFRESH-INTERVAL:P3D
CALSCALE:GREGORIAN
BEGIN:VEVENT
DTSTART:20141011T170000Z
DTEND:20141011T200000Z
X-MICROSOFT-CDO-ALLDAYEVENT:FALSE
SUMMARY:Central Park Liquor 30th Anniversary Celebration
DESCRIPTION:Central Park Liquor celebrates its 30th anniversary with specials and grilling
X-ALT-DESC;FMTTYPE=text/html:Central Park Liquor celebrates its 30th anniversary with specials and grilling
LOCATION:8101 Hwy 65 NE Spring Lake Park MN 55432
UID:e.380.151671
SEQUENCE:3
DTSTAMP:20260423T192212Z
URL:http://members.metronorthchamber.org/events/details/central-park-liquor-30th-anniversary-celebration-10-11-2014-151671
END:VEVENT

END:VCALENDAR
