BEGIN:VCALENDAR
VERSION:2.0
PRODID:-//ChamberMaster//Event Calendar 2.0//EN
METHOD:PUBLISH
X-PUBLISHED-TTL:P3D
REFRESH-INTERVAL:P3D
CALSCALE:GREGORIAN
BEGIN:VEVENT
DTSTART:20190822T170000Z
DTEND:20190822T190000Z
X-MICROSOFT-CDO-ALLDAYEVENT:FALSE
SUMMARY:Celebrating 2 years!
DESCRIPTION:Ramsey Physical Therapy is celebrating their 2 year anniversary! Join the team for some FREE lunch and refreshments in this open house style event that will take place from 12 to 2pm! Chair massages will also be available!!
X-ALT-DESC;FMTTYPE=text/html:Ramsey Physical Therapy is celebrating their 2 year anniversary! Join the team for some FREE lunch and refreshments in this open house style event that will take place from 12 to 2pm! Chair massages will also be available!!&nbsp\;
LOCATION:Ramsey Physical Therapy 7876 Sunwood Dr. Ramsey\, MN 55303
UID:e.380.191005
SEQUENCE:3
DTSTAMP:20260419T212530Z
URL:http://members.metronorthchamber.org/events/details/celebrating-2-years-191005
END:VEVENT

END:VCALENDAR
