BEGIN:VCALENDAR
VERSION:2.0
PRODID:-//ChamberMaster//Event Calendar 2.0//EN
METHOD:PUBLISH
X-PUBLISHED-TTL:P3D
REFRESH-INTERVAL:P3D
CALSCALE:GREGORIAN
BEGIN:VEVENT
DTSTART:20150405T140000Z
DTEND:20150405T190000Z
X-MICROSOFT-CDO-ALLDAYEVENT:FALSE
SUMMARY:Celebrate Easter at The Casa
DESCRIPTION:Our Easter Brunch Buffet includes a complete taco-salad bar\, queso dip\, scrambled eggs\, bacon\, sausage\, pancakes\, huevos rancheros\, cheesy potatoes\, vegetable medley\, carved ham and a chocolate fountain with pastries\, fresh fruit and more.
X-ALT-DESC;FMTTYPE=text/html:<span style="font-size:14px\;"><span style="font-family:tahoma\;">Our Easter Brunch Buffet includes a complete taco-salad bar\, queso dip\, scrambled eggs\, bacon\, sausage\, pancakes\, huevos rancheros\, cheesy potatoes\, vegetable medley\, carved ham and a chocolate fountain with pastries\, fresh fruit and more.</span></span>
LOCATION:Casa Rio Tex Mex Restaurant in Anoka 201 Jackson Street Anoka\, MN 55303
UID:e.380.157262
SEQUENCE:3
DTSTAMP:20260423T095120Z
URL:http://members.metronorthchamber.org/events/details/celebrate-easter-at-the-casa-04-05-2015-157262
END:VEVENT

END:VCALENDAR
