BEGIN:VCALENDAR
VERSION:2.0
PRODID:-//ChamberMaster//Event Calendar 2.0//EN
METHOD:PUBLISH
X-PUBLISHED-TTL:P3D
REFRESH-INTERVAL:P3D
CALSCALE:GREGORIAN
BEGIN:VEVENT
DTSTART:20190421T140000Z
DTEND:20190421T190000Z
X-MICROSOFT-CDO-ALLDAYEVENT:FALSE
SUMMARY:Casa Rio Easter Buffet!
DESCRIPTION:Easter Buffet! Just $12.99\n\nScrambled eggs\, ham\, bacon\, sausage and pancakes with warm syrup. Plus our Chef's Special Huevos Rancheros along with seasoned beef and chicken\, tortillas\, chips\, queso\, salsa and more. Dessert includes a chocolate fountain with mini streusel cakes\, Peeps and other special sweets! 12 and under eat for $7.99.\n\nJoin Us! 9:00 am - 2:00 pm\n\nSunday\, April 21
X-ALT-DESC;FMTTYPE=text/html:<div><span style="font-size:14px"><strong>Easter Buffet!<em>&nbsp\;Just $12.99</em></strong></span></div>\n\n<div><span style="font-size:11px">Scrambled eggs\, ham\, bacon\, sausage and pancakes with warm syrup. Plus our Chef&#39\;s Special Huevos Rancheros along with seasoned beef and chicken\, tortillas\, chips\, queso\, salsa and more. Dessert includes a chocolate fountain with mini streusel cakes\, Peeps and other special sweets! 12 and under eat for $7.99.</span></div>\n\n<div><strong>Join Us! 9:00 am - 2:00 pm</strong></div>\n\n<div><strong>Sunday\, April 21</strong></div>\n
LOCATION:Casa Rio 201 Jackson Street Anoka\, MN 55303
UID:e.380.188837
SEQUENCE:3
DTSTAMP:20260420T040710Z
URL:http://members.metronorthchamber.org/events/details/casa-rio-easter-buffet-188837
END:VEVENT

END:VCALENDAR
