BEGIN:VCALENDAR
VERSION:2.0
PRODID:-//ChamberMaster//Event Calendar 2.0//EN
METHOD:PUBLISH
X-PUBLISHED-TTL:P3D
REFRESH-INTERVAL:P3D
CALSCALE:GREGORIAN
BEGIN:VEVENT
DTSTART:20141028T163000Z
DTEND:20141028T180000Z
X-MICROSOFT-CDO-ALLDAYEVENT:FALSE
SUMMARY:Cars for Neighbors Ribbon Cutting
DESCRIPTION:Ribbon cutting at Noon to celebrate their new name (formerly Free2B).
X-ALT-DESC;FMTTYPE=text/html:Ribbon cutting at Noon to celebrate their new name (formerly Free2B).
LOCATION:Meineke Ham Lake-Blaine 13835 Johnson Street Northwest corner of Hwy 65 and Bunker Lake Blvd
UID:e.380.151647
SEQUENCE:3
DTSTAMP:20260423T210256Z
URL:http://members.metronorthchamber.org/events/details/cars-for-neighbors-ribbon-cutting-10-28-2014-151647
END:VEVENT

END:VCALENDAR
