BEGIN:VCALENDAR
VERSION:2.0
PRODID:-//ChamberMaster//Event Calendar 2.0//EN
METHOD:PUBLISH
X-PUBLISHED-TTL:P3D
REFRESH-INTERVAL:P3D
CALSCALE:GREGORIAN
BEGIN:VEVENT
DTSTART:20180318T150000Z
DTEND:20180318T210000Z
X-MICROSOFT-CDO-ALLDAYEVENT:FALSE
SUMMARY:Carousel Craft Show
DESCRIPTION:
X-ALT-DESC;FMTTYPE=text/html:<div aria-level="4" class="twEDDescription" id="headerDiv" role="heading" style="line-height: 1.4em\; padding: 10px 0px 5px\; margin: 0px\; font-family: &quot\;Open Sans&quot\;\, &nbsp\;helvetica\, arial\, sans-serif\; font-size: 12pt\; color: rgb(1\, 52\, 105)\; border-bottom: 1px solid rgb(204\, 204\, 204)\; font-weight: bold\;"><br />\n&nbsp\;</div>\n
LOCATION:Blaine National Sports Center 1700 105th Ave NE Blaine\, MN 55449 (763) 785-5600
UID:e.380.180312
SEQUENCE:3
DTSTAMP:20260421T002955Z
URL:http://members.metronorthchamber.org/events/details/carousel-craft-show-180312
END:VEVENT

END:VCALENDAR
