BEGIN:VCALENDAR
VERSION:2.0
PRODID:-//ChamberMaster//Event Calendar 2.0//EN
METHOD:PUBLISH
X-PUBLISHED-TTL:P3D
REFRESH-INTERVAL:P3D
CALSCALE:GREGORIAN
BEGIN:VEVENT
DTSTART;VALUE=DATE:20160422
DTEND;VALUE=DATE:20160425
TRANSP:TRANSPARENT
X-MICROSOFT-CDO-ALLDAYEVENT:TRUE
SUMMARY:Carhartt At Work- Member Event
DESCRIPTION:All Chamber businesses are invited to the Carhartt Riverdale Village store for a Carhartt At Work Member Event this weekend! Please join us on Saturday\, April 23rd for exclusive member benefits\, giveaways\, food and drinks. Or stop in anytime April 22-24 to get a great discount and hear more about our Carhartt At Work program.
X-ALT-DESC;FMTTYPE=text/html:<div style="background:none rgb(255\, 255\, 255)\; border:none\; padding:0px">All Chamber businesses are invited to the Carhartt Riverdale Village store for a Carhartt At Work Member Event this weekend! Please join us on Saturday\, April 23rd for exclusive member benefits\, giveaways\, food and drinks. Or stop in anytime April 22-24 to get a great discount and hear more about our Carhartt At Work program.</div>\n
LOCATION:12680 Riverdale Blvd. Coon Rapids\, MN 55448
UID:e.380.168062
SEQUENCE:3
DTSTAMP:20260422T145525Z
URL:http://members.metronorthchamber.org/events/details/carhartt-at-work-member-event-04-22-2016-168062
END:VEVENT

END:VCALENDAR
