BEGIN:VCALENDAR
VERSION:2.0
PRODID:-//ChamberMaster//Event Calendar 2.0//EN
METHOD:PUBLISH
X-PUBLISHED-TTL:P3D
REFRESH-INTERVAL:P3D
CALSCALE:GREGORIAN
BEGIN:VEVENT
DTSTART;VALUE=DATE:20180423
DTEND;VALUE=DATE:20180430
TRANSP:TRANSPARENT
X-MICROSOFT-CDO-ALLDAYEVENT:TRUE
SUMMARY:Carhartt At Work Event
DESCRIPTION:We are excited to announce our FIRST Carhartt At Work Event of 2018!\n \n\nAs a MetroNorth Chamber member you will receive exclusive member benefits when you shop in a Carhartt Retail Store from 4/23 through 4/29. Your company Carhartt At Work discount will increase to 25% off\, we will raffle off a $500 Carhartt Gift Card\, and have lots of snacks and refreshments all week!\n\n \n\nThis is one of our most popular events of the year and we can't wait to tell you all about it. Reach out to us so we can share the specifics with you! For additional details email or call us and please\, invite all of your associates to visit us during these dates for some of the best savings of the year. We have attached a simple flier that you can share with your team!
X-ALT-DESC;FMTTYPE=text/html:<span style="font-size:16px"><strong>We are excited to announce our FIRST&nbsp\;Carhartt At Work Event of 2018!</strong></span>\n<div>&nbsp\;</div>\n\n<div><span style="font-size:16px">As a MetroNorth Chamber member you will receive exclusive member benefits when you shop in a Carhartt Retail&nbsp\;Store from&nbsp\;<strong>4/23 through 4/29</strong>. Your company Carhartt At Work discount will increase to 25% off\, we will raffle off a $500 Carhartt Gift Card\, and have lots of snacks and refreshments all week!</span></div>\n\n<div>&nbsp\;</div>\n\n<div><span style="font-size:16px">This is one of our most popular events of the year and we can&#39\;t wait to tell you all about it.&nbsp\;<strong><em>Reach out to us so we can share the specifics with you!</em></strong><em>&nbsp\;</em>For additional details email or call us and please\, invite all of&nbsp\;your associates to visit us during these dates for some of the best savings of the year. We have attached a simple flier that you can share with your team!</span></div>\n
LOCATION:Carhartt- Riverdale Village 12680 Riverdale Blvd. Coon Rapids\, MN 55448
UID:e.380.184805
SEQUENCE:3
DTSTAMP:20260420T230606Z
URL:http://members.metronorthchamber.org/events/details/carhartt-at-work-event-184805
END:VEVENT

END:VCALENDAR
