BEGIN:VCALENDAR
VERSION:2.0
PRODID:-//ChamberMaster//Event Calendar 2.0//EN
METHOD:PUBLISH
X-PUBLISHED-TTL:P3D
REFRESH-INTERVAL:P3D
CALSCALE:GREGORIAN
BEGIN:VEVENT
DTSTART:20170119T200000Z
DTEND:20170120T000000Z
X-MICROSOFT-CDO-ALLDAYEVENT:FALSE
SUMMARY:Career Fair at Northtown Mall
DESCRIPTION:Career Fair hosted by the MetroNorth Chamber of Commerce.\n\nParticipating Companies:\n\n	Country Inn & Suites\n	Synergy HomeCare\n	Thirty One Gifts\n	Anoka-Hennepin School District\n	Anoka County Community Action Program\n	Workforce Development Foundation\n	Juice Plus+\n	SPAAR\n	IC System\n	Atlas Staffing\n	City of Minneapolis\n	Staff Management\\SMX\n	Weichert Realtors Premier\n	Award Staffing\n	CenterPoint Energy\n	Savers\n	BrunswickZone\n	AAA Minnesota/Iowa\n	Maria D. Agency-State Farm Insurance\n	Spring Lake Park Schools\n	Mate Precision Tooling\n	Visiting Angels\n	Doherty Staffing Solutions\n	Nerium International\n	Hampton Inn & Suites\n	Raising Cane's\n	Outback Steakhouse\n	First Student\n	Guardian Angels Senior Services\n	US Air Force\n	Anoka County\n	Emma B. Howe YMCA\n	Comfort Keepers
X-ALT-DESC;FMTTYPE=text/html:<span style="font-size:11px\;"><span style="font-family:arial\;"><span style="font-size:12px\;"><strong>Career Fair hosted by the MetroNorth Chamber of Commerce.</strong></span><br />\nParticipating Companies:</span></span>\n<ul>\n	<li>Country Inn &amp\; Suites</li>\n	<li>Synergy HomeCare</li>\n	<li>Thirty One Gifts</li>\n	<li>Anoka-Hennepin School District</li>\n	<li>Anoka County Community Action Program</li>\n	<li>Workforce Development Foundation</li>\n	<li>Juice Plus+</li>\n	<li>SPAAR</li>\n	<li>IC System</li>\n	<li>Atlas Staffing</li>\n	<li>City of Minneapolis</li>\n	<li>Staff Management\\SMX</li>\n	<li>Weichert Realtors Premier</li>\n	<li>Award Staffing</li>\n	<li>CenterPoint Energy</li>\n	<li>Savers</li>\n	<li>BrunswickZone</li>\n	<li>AAA Minnesota/Iowa</li>\n	<li>Maria D. Agency-State Farm Insurance</li>\n	<li>Spring Lake Park Schools</li>\n	<li>Mate Precision Tooling</li>\n	<li>Visiting Angels</li>\n	<li>Doherty Staffing Solutions</li>\n	<li>Nerium International</li>\n	<li>Hampton Inn &amp\; Suites</li>\n	<li>Raising Cane&#39\;s</li>\n	<li>Outback Steakhouse</li>\n	<li>First Student</li>\n	<li>Guardian Angels Senior Services</li>\n	<li>US Air Force</li>\n	<li>Anoka County</li>\n	<li>Emma B. Howe YMCA</li>\n	<li>Comfort Keepers</li>\n</ul>\n
LOCATION:Northtown Mall in the Best Buy Court 398 Northtown Drive NE Blaine 55434
UID:e.380.169478
SEQUENCE:3
DTSTAMP:20260421T221458Z
URL:http://members.metronorthchamber.org/events/details/career-fair-at-northtown-mall-169478
END:VEVENT

END:VCALENDAR
