BEGIN:VCALENDAR
VERSION:2.0
PRODID:-//ChamberMaster//Event Calendar 2.0//EN
METHOD:PUBLISH
X-PUBLISHED-TTL:P3D
REFRESH-INTERVAL:P3D
CALSCALE:GREGORIAN
BEGIN:VEVENT
DTSTART:20131023T163000Z
DTEND:20131023T200000Z
X-MICROSOFT-CDO-ALLDAYEVENT:FALSE
SUMMARY:Career Fair at Minnesota School of Business
DESCRIPTION:Showcase your business\, meet students\, recent graduates\, and members of the public at the Minnesota School of Business Career Fair!
X-ALT-DESC;FMTTYPE=text/html:Showcase your business\, meet students\, recent graduates\, and members of the public at the Minnesota School of Business Career Fair!
LOCATION:Minnesota School of Business\, Blaine Campus 3680 Pheasant Ridge Drive NE
UID:e.380.149517
SEQUENCE:3
DTSTAMP:20260424T145551Z
URL:http://members.metronorthchamber.org/events/details/career-fair-at-minnesota-school-of-business-10-23-2013-149517
END:VEVENT

END:VCALENDAR
