BEGIN:VCALENDAR
VERSION:2.0
PRODID:-//ChamberMaster//Event Calendar 2.0//EN
METHOD:PUBLISH
X-PUBLISHED-TTL:P3D
REFRESH-INTERVAL:P3D
CALSCALE:GREGORIAN
BEGIN:VEVENT
DTSTART:20120216T170000Z
DTEND:20120216T190000Z
X-MICROSOFT-CDO-ALLDAYEVENT:FALSE
SUMMARY:Career and Networking Expo - Rasmussen College\, Blaine MN
DESCRIPTION:An invaluable opportunity to connect face-to-face with potential employers\, apply for open positions\, and showcase your talents!\n\n\n\nSee which employers are attending our Career and Networking Expo at www.rasmussen.edu/careerexpo\n\n\n\nFor more information contact Rasmussen at 763-795-4720
X-ALT-DESC;FMTTYPE=text/html:<span style="font-size:10px\;"><span style="font-family: tahoma\;">An invaluable opportunity to connect face-to-face with potential employers\, apply for open positions\, and showcase your talents!<br />\n<br />\nSee which employers are attending our Career and Networking Expo at <a href="http://www.rasmussen.edu/careerexpo" title="blocked::http://www.rasmussen.edu/careerexpo">www.rasmussen.edu/careerexpo</a><br />\n<br />\nFor more information contact Rasmussen at 763-795-4720 </span></span>
LOCATION:Rasmussen College\, Blaine MN 3629 95th Ave. NE Blaine\, MN 55014
UID:e.380.143313
SEQUENCE:3
DTSTAMP:20260425T225805Z
URL:http://members.metronorthchamber.org/events/details/career-and-networking-expo-rasmussen-college-blaine-mn-02-16-2012-143313
END:VEVENT

END:VCALENDAR
