BEGIN:VCALENDAR
VERSION:2.0
PRODID:-//ChamberMaster//Event Calendar 2.0//EN
METHOD:PUBLISH
X-PUBLISHED-TTL:P3D
REFRESH-INTERVAL:P3D
CALSCALE:GREGORIAN
BEGIN:VEVENT
DTSTART:20190315T123000Z
DTEND:20190315T223000Z
X-MICROSOFT-CDO-ALLDAYEVENT:FALSE
SUMMARY:Camptastic for ages 5-12
DESCRIPTION:Bring your kids to Jam Hops on the days they don't have school!
X-ALT-DESC;FMTTYPE=text/html:Bring your kids to Jam Hops on the days they don&#39\;t have school!
LOCATION:Jam Hops\, 1460 133rd Lane NE\, Ham Lake
UID:e.380.188400
SEQUENCE:3
DTSTAMP:20260420T055914Z
URL:http://members.metronorthchamber.org/events/details/camptastic-for-ages-5-12-03-15-2019-188400
END:VEVENT

END:VCALENDAR
