BEGIN:VCALENDAR
VERSION:2.0
PRODID:-//ChamberMaster//Event Calendar 2.0//EN
METHOD:PUBLISH
X-PUBLISHED-TTL:P3D
REFRESH-INTERVAL:P3D
CALSCALE:GREGORIAN
BEGIN:VEVENT
DTSTART:20191018T123000Z
DTEND:20191018T223000Z
X-MICROSOFT-CDO-ALLDAYEVENT:FALSE
SUMMARY:Camptastic Day Camp
DESCRIPTION:Bring your kids to Jam Hops for fun on the days they don't have school!
X-ALT-DESC;FMTTYPE=text/html:Bring your kids to Jam Hops for fun on the days they don&#39\;t have school!
LOCATION:1460 133rd Lane NE\, Ham Lake
UID:e.380.191435
SEQUENCE:3
DTSTAMP:20260419T193047Z
URL:http://members.metronorthchamber.org/events/details/camptastic-day-camp-10-18-2019-191435
END:VEVENT

END:VCALENDAR
