BEGIN:VCALENDAR
VERSION:2.0
PRODID:-//ChamberMaster//Event Calendar 2.0//EN
METHOD:PUBLISH
X-PUBLISHED-TTL:P3D
REFRESH-INTERVAL:P3D
CALSCALE:GREGORIAN
BEGIN:VEVENT
DTSTART:20190930T123000Z
DTEND:20190930T223000Z
X-MICROSOFT-CDO-ALLDAYEVENT:FALSE
SUMMARY:Camptastic Day Camp
DESCRIPTION:Camptastic is the name of the fantastic camps we offer for children to attend when school is not is session. Our trained staff spends the day with your children doing many fun activities.
X-ALT-DESC;FMTTYPE=text/html:Camptastic is the name of the&nbsp\;fantastic camps we offer for children to attend when school is not is session. Our trained staff&nbsp\;spends the day with your children doing many fun activities.
LOCATION:1460 133rd Lane NE\, Ham Lake
UID:e.380.191170
SEQUENCE:3
DTSTAMP:20260419T193053Z
URL:http://members.metronorthchamber.org/events/details/camptastic-day-camp-09-30-2019-191170
END:VEVENT

END:VCALENDAR
