BEGIN:VCALENDAR
VERSION:2.0
PRODID:-//ChamberMaster//Event Calendar 2.0//EN
METHOD:PUBLISH
X-PUBLISHED-TTL:P3D
REFRESH-INTERVAL:P3D
CALSCALE:GREGORIAN
BEGIN:VEVENT
DTSTART:20190806T123000Z
DTEND:20190806T223000Z
X-MICROSOFT-CDO-ALLDAYEVENT:FALSE
SUMMARY:Camptastic Day Camp
DESCRIPTION:Bring your kids to Jam Hops on the days they don't have school.
X-ALT-DESC;FMTTYPE=text/html:Bring your kids to Jam Hops on the days they don&#39\;t have school.
LOCATION:Cost: $33 (tax included) per day for members\, $38 (tax included) for non-members. Before/after care is an additional $5/hour.
UID:e.380.189239
SEQUENCE:3
DTSTAMP:20260419T212625Z
URL:http://members.metronorthchamber.org/events/details/camptastic-day-camp-08-06-2019-189239
END:VEVENT

END:VCALENDAR
