BEGIN:VCALENDAR
VERSION:2.0
PRODID:-//ChamberMaster//Event Calendar 2.0//EN
METHOD:PUBLISH
X-PUBLISHED-TTL:P3D
REFRESH-INTERVAL:P3D
CALSCALE:GREGORIAN
BEGIN:VEVENT
DTSTART:20190731T123000Z
DTEND:20190731T223000Z
X-MICROSOFT-CDO-ALLDAYEVENT:FALSE
SUMMARY:Camptastic Day Camp
DESCRIPTION:Bring your kids to Jam Hops on the days they have off school.
X-ALT-DESC;FMTTYPE=text/html:Bring your kids to Jam Hops on the days they have off school.
LOCATION:1460 133rd Lane NE\, Ham Lake
UID:e.380.189235
SEQUENCE:3
DTSTAMP:20260419T225411Z
URL:http://members.metronorthchamber.org/events/details/camptastic-day-camp-07-31-2019-189235
END:VEVENT

END:VCALENDAR
