BEGIN:VCALENDAR
VERSION:2.0
PRODID:-//ChamberMaster//Event Calendar 2.0//EN
METHOD:PUBLISH
X-PUBLISHED-TTL:P3D
REFRESH-INTERVAL:P3D
CALSCALE:GREGORIAN
BEGIN:VEVENT
DTSTART:20190528T123000Z
DTEND:20190528T223000Z
X-MICROSOFT-CDO-ALLDAYEVENT:FALSE
SUMMARY:Camptastic Day Camp
DESCRIPTION:Bring your kids to our camp if they don't have school this day!
X-ALT-DESC;FMTTYPE=text/html:Bring your kids to our camp if they don&#39\;t have school this day!
LOCATION:1460 133rd Lane NE\, Ham Lake
UID:e.380.188937
SEQUENCE:3
DTSTAMP:20260420T022425Z
URL:http://members.metronorthchamber.org/events/details/camptastic-day-camp-05-28-2019-188937
END:VEVENT

END:VCALENDAR
