BEGIN:VCALENDAR
VERSION:2.0
PRODID:-//ChamberMaster//Event Calendar 2.0//EN
METHOD:PUBLISH
X-PUBLISHED-TTL:P3D
REFRESH-INTERVAL:P3D
CALSCALE:GREGORIAN
BEGIN:VEVENT
DTSTART:20200102T133000Z
DTEND:20200102T233000Z
X-MICROSOFT-CDO-ALLDAYEVENT:FALSE
SUMMARY:Camptastic Day Camp
DESCRIPTION:Kids have the day off from school? Bring them to hang out with us!
X-ALT-DESC;FMTTYPE=text/html:Kids have the day off from school? Bring them to hang out with us!
LOCATION:1460 133rd Lane NE\, Ham Lake
UID:e.380.191874
SEQUENCE:3
DTSTAMP:20260419T124659Z
URL:http://members.metronorthchamber.org/events/details/camptastic-day-camp-01-02-2020-191874
END:VEVENT

END:VCALENDAR
