BEGIN:VCALENDAR
VERSION:2.0
PRODID:-//ChamberMaster//Event Calendar 2.0//EN
METHOD:PUBLISH
X-PUBLISHED-TTL:P3D
REFRESH-INTERVAL:P3D
CALSCALE:GREGORIAN
BEGIN:VEVENT
DTSTART:20180124T000000Z
DTEND:20180124T010000Z
X-MICROSOFT-CDO-ALLDAYEVENT:FALSE
SUMMARY:Buying a Firearm 101 Seminar - Bills Gun Shop & Range
DESCRIPTION:If you are looking to obtain more knowledge about how to purchase a firearm and select the right firearm\, this is the perfect course for you.\n \n\nWe will go over the difference between permit to purchase and permit to carry\, requirements\, things to consider when purchasing a firearm\, and going over the different kinds of firearms that would best fit your wants/needs. We want to ensure that everyone that walks through our door gets the proper education and gains confidence through their firearm journey.
X-ALT-DESC;FMTTYPE=text/html:<span style="background-color:rgb(245\, 245\, 245)\; color:rgb(128\, 128\, 128)\; font-family:verdana\,geneva\,sans-serif\; font-size:15px">If you are looking to obtain&nbsp\;more knowledge about how to purchase a firearm and select&nbsp\;the right firearm\, this is the perfect course for you.</span>\n<div>&nbsp\;</div>\n\n<div><span style="background-color:rgb(245\, 245\, 245)\; color:rgb(101\, 101\, 101)\; font-family:open sans\,arial narrow\; font-size:13px">We will go over the difference between permit to purchase and permit to carry\, requirements\, things to consider when purchasing a firearm\, and going over the different kinds of firearms that would best fit your wants/needs. We want to ensure that everyone that walks through our door gets the proper education and gains&nbsp\;confidence through their firearm journey.</span></div>\n
LOCATION:Bill's Gun Shop & Range Circle Pines 3621 88th Ave NE\, Circle Pines\, MN 55014
UID:e.380.179557
SEQUENCE:3
DTSTAMP:20260421T034456Z
URL:http://members.metronorthchamber.org/events/details/buying-a-firearm-101-seminar-bills-gun-shop-range-179557
END:VEVENT

END:VCALENDAR
