BEGIN:VCALENDAR
VERSION:2.0
PRODID:-//ChamberMaster//Event Calendar 2.0//EN
METHOD:PUBLISH
X-PUBLISHED-TTL:P3D
REFRESH-INTERVAL:P3D
CALSCALE:GREGORIAN
BEGIN:VEVENT
DTSTART:20120308T171500Z
DTEND:20120308T190000Z
X-MICROSOFT-CDO-ALLDAYEVENT:FALSE
SUMMARY:Business Partners Group at Anoka Technical College
DESCRIPTION:Business Partners Group is a business education luncheon where business professionals come together to learn\, connect and grow. March topic: Financial Management - Do your Business Financials Keep you up at Night? Financial Manager Brianna Nordaune with Principal will be here to teach us how to harness the power of financial planning to reach your business goals. Auditorium A.
X-ALT-DESC;FMTTYPE=text/html:<strong>Business Partners Group </strong>is a business education luncheon where business professionals come together to learn\, connect and grow. <strong>March topic: Financial Management </strong>- Do your Business Financials Keep you up at Night? Financial Manager Brianna Nordaune with Principal will be here to teach us how to harness the power of financial planning to reach your business goals. Auditorium A.
LOCATION:Anoka Technical College 1355 West Highway 10\, Anoka MN 55303
UID:e.380.143474
SEQUENCE:3
DTSTAMP:20260425T211101Z
URL:http://members.metronorthchamber.org/events/details/business-partners-group-at-anoka-technical-college-03-08-2012-143474
END:VEVENT

END:VCALENDAR
