BEGIN:VCALENDAR
VERSION:2.0
PRODID:-//ChamberMaster//Event Calendar 2.0//EN
METHOD:PUBLISH
X-PUBLISHED-TTL:P3D
REFRESH-INTERVAL:P3D
CALSCALE:GREGORIAN
BEGIN:VEVENT
DTSTART:20170606T214500Z
DTEND:20170606T234500Z
X-MICROSOFT-CDO-ALLDAYEVENT:FALSE
SUMMARY:Business Over Brews
DESCRIPTION:Arrive between 4:45-5:25 pm and enjoy 2-for-1's and snacks. At 5:25\, we'll hear from the owner of Bent Brewstillery as he provides each guest with a flight of hand crafted beer and explains their delightful nuances.
X-ALT-DESC;FMTTYPE=text/html:Arrive between 4:45-5:25 pm and enjoy 2-for-1&rsquo\;s and snacks. At 5:25\, we&rsquo\;ll hear from the owner of Bent Brewstillery as he provides each guest with a flight of hand crafted beer and explains their delightful nuances.&nbsp\;
LOCATION:Bent Brewstillery 1744 Terrace Drive Roseville\, MN 55113
UID:e.380.173188
SEQUENCE:3
DTSTAMP:20260421T135305Z
URL:http://members.metronorthchamber.org/events/details/business-over-brews-173188
END:VEVENT

END:VCALENDAR
