BEGIN:VCALENDAR
VERSION:2.0
PRODID:-//ChamberMaster//Event Calendar 2.0//EN
METHOD:PUBLISH
X-PUBLISHED-TTL:P3D
REFRESH-INTERVAL:P3D
CALSCALE:GREGORIAN
BEGIN:VEVENT
DTSTART:20140326T170000Z
DTEND:20140326T174500Z
X-MICROSOFT-CDO-ALLDAYEVENT:FALSE
SUMMARY:Business Open House at Achieve Services\, Inc.
DESCRIPTION:Do you want to learn more about the type of work that Achieve Services does on-site and in the community? Are you considering hiring or partnering with Achieve and want to learn more about working people with disabilities? Do you want to volunteer with us?\n\n\n\nStarting in 2014\, Achieve Services will be hosting a monthly open house to give members of the community an opportunity to see our facilities\, speak with one of our participants\, and ask questions about the work we do. The next open houses are:\n\n\n\nWednesday\, March 26th - 12:00pm\n\nFriday\, April 25th - 12:00pm\n\n\n\nLight refreshments will be served!\n\n\n\nRSVPs are requested. Please contact Alex Carlson if you would like to attend.
X-ALT-DESC;FMTTYPE=text/html:<p><span style="font-size:14px\;"><span style="font-family:arial\,helvetica\,sans-serif\;"><span style="line-height: 19px\; orphans: 3\; widows: 3\;">Do you want to learn more about the type of work that Achieve Services does on-site and in the community? Are you considering hiring or partnering with Achieve and want to learn more about working people with disabilities? Do you want to volunteer with us?</span><br style="color: rgb(76\, 76\, 76)\; font-family: lato\, sans-serif\; font-size: 15px\; line-height: 19px\; orphans: 3\; widows: 3\;" />\n<br style="color: rgb(76\, 76\, 76)\; font-family: lato\, sans-serif\; font-size: 15px\; line-height: 19px\; orphans: 3\; widows: 3\;" />\n<span style="line-height: 19px\; orphans: 3\; widows: 3\;">Starting in 2014\, Achieve Services will be hosting a monthly open house to give members of the community an opportunity to see our facilities\, speak with one of our participants\, and ask questions about the work we do. The next open houses are:</span><br style="color: rgb(76\, 76\, 76)\; font-family: lato\, sans-serif\; font-size: 15px\; line-height: 19px\; orphans: 3\; widows: 3\;" />\n<br style="color: rgb(76\, 76\, 76)\; font-family: lato\, sans-serif\; font-size: 15px\; line-height: 19px\; orphans: 3\; widows: 3\;" />\n<span style="line-height: 19px\; orphans: 3\; widows: 3\;">Wednesday\, March 26th - 12:00pm</span><br />\nFriday\, April 25th - 12:00pm<br />\n<br />\n<em>Light refreshments will be served!</em><br style="color: rgb(76\, 76\, 76)\; font-family: lato\, sans-serif\; font-size: 15px\; line-height: 19px\; orphans: 3\; widows: 3\;" />\n<br style="color: rgb(76\, 76\, 76)\; font-family: lato\, sans-serif\; font-size: 15px\; line-height: 19px\; orphans: 3\; widows: 3\;" />\n<span style="line-height: 19px\; orphans: 3\; widows: 3\;">RSVPs are requested. Please contact <a href="mailto:acarlson@achieveservices.org">Alex Carlson</a> if you would like to attend.</span></span></span></p>\n
LOCATION:Achieve Services\, Inc. 1201 89th Ave. NE\, Ste 105 Blaine\, MN 55434
UID:e.380.150334
SEQUENCE:3
DTSTAMP:20260424T062611Z
URL:http://members.metronorthchamber.org/events/details/business-open-house-at-achieve-services-inc-03-26-2014-150334
END:VEVENT

END:VCALENDAR
