BEGIN:VCALENDAR
VERSION:2.0
PRODID:-//ChamberMaster//Event Calendar 2.0//EN
METHOD:PUBLISH
X-PUBLISHED-TTL:P3D
REFRESH-INTERVAL:P3D
CALSCALE:GREGORIAN
BEGIN:VEVENT
DTSTART:20120314T123000Z
DTEND:20120314T203000Z
X-MICROSOFT-CDO-ALLDAYEVENT:FALSE
SUMMARY:Business Day at the Capitol 2012
DESCRIPTION:Minnesota Business Day at the Capitol provides all sizes and types of Minnesota companies the opportunity to see the Legislature in action and to influence public policy decisions. Over 800 business leaders gather for a day of education and lobbying at the Capitol.\n\n\n\nSession 1 | 7:30 a.m. - 1:30 p.m.\n\nSession 2 | 9:30 a.m. - 3:30 p.m.\n\n\n\nTop priorities this year are:\n\n- Develop the best talent\n\n- Costs must be competitive\n\n- Innovate in government\n\n- Fairer rules\, fewer delays\n\n\n\nThe sessions will begin with opening remarks addressing the legislative session followed by the opportunity to attend briefings by Minnesota Chamber staff on the business community's top priorities. Governor Mark Dayton has been invited to speak at noon for a lunch program.\n\n\n\nClick here for a copy of the agenda.
X-ALT-DESC;FMTTYPE=text/html:<span style="color: rgb(0\, 0\, 128)\;"><span style="font-size: 10px\;"><span style="font-family: tahoma\;"><span class="cm_editor_fix">Minnesota Business Day at the Capitol provides all sizes and types of Minnesota companies the opportunity to see the Legislature in action and to influence public policy decisions. Over 800 business leaders gather for a day of education and lobbying at the Capitol.</span></span></span></span><br />\n<br />\n<span style="font-size:10px\;"><span style="color: rgb(0\, 0\, 128)\;"><span style="font-family: tahoma\;"><span class="cm_editor_fix">Session 1 | 7:30 a.m. - 1:30 p.m.<br />\nSession 2 | 9:30 a.m. - 3:30 p.m.</span></span></span></span><br />\n<br />\n<span style="color:#000080\;"><span style="font-size: 10px\;"><span style="font-family: tahoma\;"><span class="cm_editor_fix">Top priorities this year are:</span></span></span></span><br />\n<span style="color:#000080\;"><span style="font-size: 10px\;"><span style="font-family: tahoma\;"><span class="cm_editor_fix">- Develop the best talent</span></span></span></span><br />\n<span style="color:#000080\;"><span style="font-size: 10px\;"><span style="font-family: tahoma\;"><span class="cm_editor_fix">- Costs must be competitive</span></span></span></span><br />\n<span style="color:#000080\;"><span style="font-size: 10px\;"><span style="font-family: tahoma\;"><span class="cm_editor_fix">- Innovate in government</span></span></span></span><br />\n<span style="color: rgb(0\, 0\, 128)\;"><span style="font-size: 10px\;"><span style="font-family: tahoma\;"><span class="cm_editor_fix">- Fairer rules\, fewer delays</span></span></span></span><br />\n<br />\n<span style="font-size:10px\;"><span style="font-family: tahoma\;"><span style="color: rgb(0\, 0\, 128)\;"><span class="cm_editor_fix">The sessions will begin with opening remarks addressing the legislative session followed by the opportunity to attend briefings by Minnesota Chamber staff on the business community&rsquo\;s top priorities</span></span><span style="color:#000080\;">. <span class="cm_editor_fix">Governor Mark Dayton has been invited to speak </span><span class="cm_editor_fix">at noon for a lunch program.</span></span></span></span><br />\n<br />\n<span style="color:#000080\;"><span style="font-size: 10px\;"><span style="font-family: tahoma\;">Click <a href="http://cloud.chambermaster.com/userfiles/UserFiles/chambers/380/File/DAC2012_Agenda.pdf">here</a> for a copy of the agenda.</span></span></span><br />\n<br />\n
LOCATION:Crowne Plaza St. Paul - Riverfront 11 East Kellogg Boulevard\, St. Paul
UID:e.380.143028
SEQUENCE:3
DTSTAMP:20260425T225057Z
URL:http://members.metronorthchamber.org/events/details/business-day-at-the-capitol-2012-03-14-2012-143028
END:VEVENT

END:VCALENDAR
