BEGIN:VCALENDAR
VERSION:2.0
PRODID:-//ChamberMaster//Event Calendar 2.0//EN
METHOD:PUBLISH
X-PUBLISHED-TTL:P3D
REFRESH-INTERVAL:P3D
CALSCALE:GREGORIAN
BEGIN:VEVENT
DTSTART:20140319T143000Z
DTEND:20140319T220000Z
X-MICROSOFT-CDO-ALLDAYEVENT:FALSE
SUMMARY:Business Day at the Capitol
DESCRIPTION:Advance your priorities face-to-face with legislators. Join your peers from across the state as we lobby with one voice on the issues that will help strengthen the business environment to improve the lives of all Minnesotans
X-ALT-DESC;FMTTYPE=text/html:<span style="font-size:12px\;"><span style="font-family: tahoma\;"><span style="color: rgb(0\, 0\, 0)\; line-height: 24.7px\;">Advance your priorities face-to-face with legislators. Join your peers from across the state as we lobby with one voice on the issues that will help strengthen the business environment to improve the lives of all Minnesotans</span></span></span>
LOCATION:Crowne Plaza St. Paul-Riverfront Great River Ballroom 11 East Kellogg Boulevard St. Paul\, MN
UID:e.380.150316
SEQUENCE:3
DTSTAMP:20260424T062609Z
URL:http://members.metronorthchamber.org/events/details/business-day-at-the-capitol-03-19-2014-150316
END:VEVENT

END:VCALENDAR
