BEGIN:VCALENDAR
VERSION:2.0
PRODID:-//ChamberMaster//Event Calendar 2.0//EN
METHOD:PUBLISH
X-PUBLISHED-TTL:P3D
REFRESH-INTERVAL:P3D
CALSCALE:GREGORIAN
BEGIN:VEVENT
DTSTART:20180726T130000Z
DTEND:20180726T150000Z
X-MICROSOFT-CDO-ALLDAYEVENT:FALSE
SUMMARY:Business & Brekfast "The Power of Smart Marketing"
DESCRIPTION:When today's market is moving faster and more ever-changing than any other time in history\, makes marketing seem like a game of chance than a sound investment.\n\nThere are thousands of ways to market your business\, innumerable products\, and just as many companies with plenty of promises.  AND you have to ensure your marketing attracts the right kind of client and brings in more sales.\n\nThere's Good News!  Marketing doesn't have to be complicated or cost you thousands!\n\nYou'll be confident walking away with the knowledge of \n\n\n	Who\, Where\, What\, Why\, and How of Marketing \n	What tools can be used to measure how well you're doing \n	How to retain customers for 2-3x longer than you do today \n	What are the key factors that lead to massive Profits
X-ALT-DESC;FMTTYPE=text/html:<p>When today&rsquo\;s market is moving faster and more ever-changing than any other time in history\, makes marketing seem like a game of chance than a sound investment.</p>\n\n<p>There are thousands of ways to market your business\, innumerable products\, and just as many companies with plenty of promises.&nbsp\; AND you have to ensure your marketing attracts the right kind of client and brings in more sales.</p>\n\n<p>There&rsquo\;s Good News!&nbsp\; Marketing doesn&rsquo\;t have to be complicated or cost you thousands!</p>\n\n<p><strong>You&rsquo\;ll be confident walking away with the knowledge of&hellip\;</strong></p>\n\n<ul>\n	<li>Who\, Where\, What\, Why\, and How of Marketing&hellip\;</li>\n	<li>What tools can be used to measure how well you&rsquo\;re doing&hellip\;</li>\n	<li>How to retain customers for 2-3x longer than you do today&hellip\;</li>\n	<li>What are the key factors that lead to massive Profits&hellip\;</li>\n</ul>\n
LOCATION:ActionCOACH MN South Offices 6600 City West Parkway\, Suite 207 Eden Prairie\, MN 55344
UID:e.380.185774
SEQUENCE:3
DTSTAMP:20260420T183228Z
URL:http://members.metronorthchamber.org/events/details/business-brekfast-the-power-of-smart-marketing-11-17-2017-185774
END:VEVENT

END:VCALENDAR
