BEGIN:VCALENDAR
VERSION:2.0
PRODID:-//ChamberMaster//Event Calendar 2.0//EN
METHOD:PUBLISH
X-PUBLISHED-TTL:P3D
REFRESH-INTERVAL:P3D
CALSCALE:GREGORIAN
BEGIN:VEVENT
DTSTART:20190329T130000Z
DTEND:20190329T150000Z
X-MICROSOFT-CDO-ALLDAYEVENT:FALSE
SUMMARY:Business & Breakfast: "3 Key Disciplines of Effective Business Leaders"
DESCRIPTION:Have you ever wondered why some business owners always seem to come up winners?  Shockingly\, it has more to do with business disciplines than great ideas.   .\n\nWhile attitude and problem solving are excellent characteristics\, there are fundamental disciplines and skills that all business leaders should establish throughout their organization.\n\nJOIN US as we go through key disciplines needed in order for leaders to run a fully functional\, productive\, and effective business.\n\nNOW IS THE TIME TO SAY YES TO YOUR BUSINESS!\n\nCLEAR DIRECTION. FOCUSED ACTION. REAL RESULTS.\n\n\nARE YOU READY TO MAKE A DIFFERENCE IN YOUR BUSINESS TODAY?
X-ALT-DESC;FMTTYPE=text/html:<p>Have you ever wondered why some business owners always seem to come up winners?&nbsp\; Shockingly\, it has more to do with business disciplines than great ideas.&nbsp\; &nbsp\;.</p>\n\n<p>While attitude and problem solving are excellent characteristics\, there are fundamental disciplines and skills that all business leaders should establish throughout their organization.</p>\n\n<p><strong>JOIN US</strong>&nbsp\;as we go through key disciplines needed in order for leaders to run a fully functional\, productive\, and effective business.</p>\n\n<p><strong>NOW IS THE TIME TO SAY YES TO YOUR BUSINESS!</strong></p>\n\n<p><strong>CLEAR DIRECTION. FOCUSED ACTION. REAL RESULTS.</strong></p>\n<br />\n<span style="font-size:18px"><span style="color:#FF0000"><strong>ARE YOU READY TO MAKE A DIFFERENCE IN YOUR BUSINESS TODAY? </strong></span></span>
LOCATION:ActionCOACH MN Training Room 11188 Zealand Ave. North Champlin\, MN 55316
UID:e.380.188494
SEQUENCE:3
DTSTAMP:20260420T060731Z
URL:http://members.metronorthchamber.org/events/details/business-breakfast-6-secrets-to-a-profitable-business-that-works-without-you-03-29-2019-188494
END:VEVENT

END:VCALENDAR
