BEGIN:VCALENDAR
VERSION:2.0
PRODID:-//ChamberMaster//Event Calendar 2.0//EN
METHOD:PUBLISH
X-PUBLISHED-TTL:P3D
REFRESH-INTERVAL:P3D
CALSCALE:GREGORIAN
BEGIN:VEVENT
DTSTART:20150506T130000Z
DTEND:20150506T150000Z
X-MICROSOFT-CDO-ALLDAYEVENT:FALSE
SUMMARY:Business and Breakfast
DESCRIPTION:BUSINESS and BREAKFAST\n\n(we're buyin' at the Pizza Ranch Andover)\n\nMIDAS TOUCH \n\nHOW TO IMPROVE EMPLOYEE PERFORMANCE\n\n\n\nIn today's environment\, the old notion of "just be grateful you have a  job" is a fast ticket to low performance and high turnover.  There is nothing to gain from negative motivation.  Successful organizations lead the whole person\; acknowledging that employees have heads and hearts.\n\n\n\nRegister Here Now!\n\n\n\nYou'll walk away confident having learned...\n\n- How to set targets your employees will understand\n\n- How to give effective feedback on performance standards\n\n- How to motivate your staff to perform at their expected levels\n\n- How to create an environment of recognition and reward\n\nNOW is the time to say YES to your business!\n\n\n\nRegister here now!\n\n \n\nThis workshop is in partnership with Minneapolis/St. Paul Business Journal\n\nLearn from Wendy Blomseth\, Mpls/St. Paul Business Journal Account Executive\, as she shares how business owners\, leaders\, and teams can:\n\n\n	Network with their peers\n	Engage and delegate outreach activities\n	Attend events with peer-level professionals\n	Share business intelligence with staff and colleagues\n	Connect using the Minneapolis/St. Paul Business Journal\n\n\nWe look forward to meeting you and buying you breakfast!
X-ALT-DESC;FMTTYPE=text/html:<div style="text-align: center\;"><span style="font-size:18px">BUSINESS and BREAKFAST</span><br />\n<span style="font-size:12px">(we&#39\;re buyin&#39\; at the Pizza Ranch Andover)<br />\n<span style="font-size:22px"><strong><u>MIDAS TOUCH&nbsp\;</u></strong><br />\n<span style="font-size:20px"><em>HOW TO IMPROVE EMPLOYEE PERFORMANCE</em></span></span></span><br />\n<br />\n<span style="font-size:14px">In today&#39\;s environment\, the old notion of &quot\;just be grateful you have&nbsp\;a &nbsp\;job&quot\; is a fast ticket to low performance and high turnover. &nbsp\;There is nothing to gain from negative motivation. &nbsp\;Successful organizations lead the&nbsp\;<em>whole</em>&nbsp\;person\; acknowledging that employees have heads and hearts.<br />\n<br />\n<span style="font-size:18px"><strong><a href="http://businesscoachmn.com/event/midas-touch-how-to-improve-employee-performance-2/"><span style="color:#FF0000">Register Here Now!</span></a></strong></span><br />\n<br />\n<strong>You&#39\;ll walk away confident having learned...</strong><br />\n- How to set targets your employees will understand<br />\n- How to give effective feedback on performance standards<br />\n- How to motivate your staff to perform at their expected levels<br />\n- How to create an environment of recognition and reward<br />\n<strong><span style="font-size:20px"><em>NOW</em> is the time to say<em> YES</em> to your business!</span></strong></span><br />\n<br />\n<span style="font-size:18px"><span style="font-size:22px"><u><strong><a href="http://businesscoachmn.com/event/midas-touch-how-to-improve-employee-performance-2/"><span style="color:#FF0000">Register here now!</span></a></strong></u></span></span><br />\n&nbsp\;</div>\n\n<div><span style="font-size:12px\; line-height:19.2000007629395px">This workshop is in partnership with Minneapolis/St. Paul Business Journal<br />\nLearn from Wendy Blomseth\, Mpls/St. Paul Business Journal Account Executive\, as she shares how business owners\, leaders\, and teams can:</span></div>\n\n<ul>\n	<li>Network with their peers</li>\n	<li>Engage and delegate outreach activities</li>\n	<li>Attend events with peer-level professionals</li>\n	<li>Share business intelligence with staff and colleagues</li>\n	<li>Connect using the Minneapolis/St. Paul Business Journal</li>\n</ul>\n\n<address style="text-align: center\;"><span style="color:#000000"><em><span style="font-size:16px">We look forward to meeting you and buying you breakfast!</span></em></span></address>\n
LOCATION:Pizza Ranch Andover 13797 Jay Street NW Andover\, MN 55304
UID:e.380.157269
SEQUENCE:3
DTSTAMP:20260423T095210Z
URL:http://members.metronorthchamber.org/events/details/business-and-breakfast-05-06-2015-157269
END:VEVENT

END:VCALENDAR
