BEGIN:VCALENDAR
VERSION:2.0
PRODID:-//ChamberMaster//Event Calendar 2.0//EN
METHOD:PUBLISH
X-PUBLISHED-TTL:P3D
REFRESH-INTERVAL:P3D
CALSCALE:GREGORIAN
BEGIN:VEVENT
DTSTART:20180709T200000Z
DTEND:20180709T220000Z
X-MICROSOFT-CDO-ALLDAYEVENT:FALSE
SUMMARY:Bunker Hills 50th Anniversary Happy Hour Celebration
DESCRIPTION:Celebrate Bunker Hills Golf Club 50th Anniversary on July 9th. Cake and refreshments will be served.
X-ALT-DESC;FMTTYPE=text/html:Celebrate Bunker Hills Golf Club 50th&nbsp\;Anniversary on July 9th. Cake and refreshments will be served.
LOCATION:Bunker Hills Golf Club 12800 Bunker Prairie Road Coon Rapids\, MN 55448
UID:e.380.184856
SEQUENCE:3
DTSTAMP:20260420T182556Z
URL:http://members.metronorthchamber.org/events/details/bunker-hills-50th-anniversary-happy-hour-celebration-184856
END:VEVENT

END:VCALENDAR
