BEGIN:VCALENDAR
VERSION:2.0
PRODID:-//ChamberMaster//Event Calendar 2.0//EN
METHOD:PUBLISH
X-PUBLISHED-TTL:P3D
REFRESH-INTERVAL:P3D
CALSCALE:GREGORIAN
BEGIN:VEVENT
DTSTART:20130405T130000Z
DTEND:20130405T140000Z
X-MICROSOFT-CDO-ALLDAYEVENT:FALSE
SUMMARY:Budget Discussion with Com. Myron Frans
DESCRIPTION:Join us for a budget discussion with MN Commissioner of Revenue Myron Frans. Hosted by our Government Affairs Committee. All MetroNorth members invited\; no cost but RSVP required. Space is limited.
X-ALT-DESC;FMTTYPE=text/html:<span style="font-size: 11px\;"><span style="font-family: tahoma\;"><span>Join us for&nbsp\;a budget discussion with MN Commissioner of Revenue Myron Frans. Hosted by our Government Affairs Committee. All MetroNorth members invited\; no cost but RSVP required. Space is limited.</span></span></span>
LOCATION:Education Center for Unity Hospital 620 Osborne Rd Fridley
UID:e.380.148180
SEQUENCE:3
DTSTAMP:20260425T015818Z
URL:http://members.metronorthchamber.org/events/details/budget-discussion-with-com-myron-frans-04-05-2013-148180
END:VEVENT

END:VCALENDAR
