BEGIN:VCALENDAR
VERSION:2.0
PRODID:-//ChamberMaster//Event Calendar 2.0//EN
METHOD:PUBLISH
X-PUBLISHED-TTL:P3D
REFRESH-INTERVAL:P3D
CALSCALE:GREGORIAN
BEGIN:VEVENT
DTSTART:20130831T120000Z
DTEND:20130831T140000Z
X-MICROSOFT-CDO-ALLDAYEVENT:FALSE
SUMMARY:Brunswick Zone Needs ZOMBIES Saturday at 7am!
DESCRIPTION:Have you ever wanted to star in a YouTube video? Here's your chance! Brunswick Zone XL in Blaine is looking for volunteer zombies to participate in their YouTube video promoting their new "Walking Dead" league.\n\n\n\nShow up IN COSTUME at 7am to participate. Refreshments will be provided.
X-ALT-DESC;FMTTYPE=text/html:Have you ever wanted to star in a YouTube video? Here&#39\;s your chance! Brunswick Zone XL in Blaine is looking for volunteer zombies to participate in their YouTube video promoting their new &quot\;Walking Dead&quot\; league.<br />\n<br />\nShow up IN COSTUME at 7am to participate. Refreshments will be provided.
LOCATION:Brunswick Zone XL 11351 Ulysses Street NE Blaine
UID:e.380.149493
SEQUENCE:3
DTSTAMP:20260424T192829Z
URL:http://members.metronorthchamber.org/events/details/brunswick-zone-needs-zombies-saturday-at-7am-08-31-2013-149493
END:VEVENT

END:VCALENDAR
