BEGIN:VCALENDAR
VERSION:2.0
PRODID:-//ChamberMaster//Event Calendar 2.0//EN
METHOD:PUBLISH
X-PUBLISHED-TTL:P3D
REFRESH-INTERVAL:P3D
CALSCALE:GREGORIAN
BEGIN:VEVENT
DTSTART:20140327T130000Z
DTEND:20140327T140000Z
X-MICROSOFT-CDO-ALLDAYEVENT:FALSE
SUMMARY:Broadband Discussion - MetroNorth Government Affairs
DESCRIPTION:In June 2013\, a major fiber connectivity project was completed\, allowing 145 Anoka County governmental entities to be connected to each other via high-speed broadband services. How does this project impact the economic development of this area? How and when will the business community be able to access this fiber? Who are the stakeholders involved?\n\n\n\nHear an update on these questions and more on Thurs\, March 27\, 8 am\, Rasmussen College-Blaine Campus at the MetroNorth Government Affairs meeting. Susan Vreeland\, Director of Information Technology from Anoka County\, representatives from Zayo\, and others will be there to describe the contract\, construction\, and impact of the new system\, and its future potential.
X-ALT-DESC;FMTTYPE=text/html:<br />\nIn June 2013\, a major fiber connectivity project was completed\, allowing 145 Anoka County governmental entities to be connected to each other via high-speed broadband services. How does this project impact the economic development of this area? How and when will the business community be able to access this fiber? Who are the stakeholders involved?<br />\n<br />\nHear an update on these questions and more on Thurs\, March 27\, 8 am\, Rasmussen College-Blaine Campus at the MetroNorth Government Affairs meeting. Susan Vreeland\, Director of Information Technology from Anoka County\, representatives from Zayo\, and others will be there to describe the contract\, construction\, and impact of the new system\, and its future potential.<br />\n<br />\n<br />\n&nbsp\;
LOCATION:Rasmussen College Blaine Campus 3629 95th Ave. NE
UID:e.380.150047
SEQUENCE:3
DTSTAMP:20260424T062513Z
URL:http://members.metronorthchamber.org/events/details/broadband-discussion-metronorth-government-affairs-03-27-2014-150047
END:VEVENT

END:VCALENDAR
