BEGIN:VCALENDAR
VERSION:2.0
PRODID:-//ChamberMaster//Event Calendar 2.0//EN
METHOD:PUBLISH
X-PUBLISHED-TTL:P3D
REFRESH-INTERVAL:P3D
CALSCALE:GREGORIAN
BEGIN:VEVENT
DTSTART:20170503T000000Z
DTEND:20170503T020000Z
X-MICROSOFT-CDO-ALLDAYEVENT:FALSE
SUMMARY:Breathe Again
DESCRIPTION:It's Spring in Minnesota and that means fun\, sun\, flowers\, pollen. . . achoooo!\n\nIf you've been wondering what oils would work the best for you to help support your respiratory system and help you start "Breathing Again" this spring\, join us Tuesday\, May 2nd at 7pm. I'll share with you my favorite must haves.\n\nI will have the Zyto scan so we can help customize some respiratory support just for you!\n\nAddress with be sent with the reminder email. Register Here
X-ALT-DESC;FMTTYPE=text/html:<p>It&#39\;s Spring in Minnesota and that means fun\, sun\, flowers\, pollen. . . achoooo!</p>\n\n<p>If you&#39\;ve been wondering what oils would work the best for you to help support your respiratory system and help you start &quot\;Breathing Again&quot\; this spring\, join us Tuesday\, May 2nd at 7pm. I&#39\;ll share with you my favorite must haves.</p>\n\n<p>I will have the Zyto scan so we can help customize some respiratory support just for you!</p>\n\n<p>Address with be sent with the reminder email.&nbsp\;<strong><u><a href="https://www.eventbrite.com/e/spring-time-got-you-down-breathe-again-with-young-living-tickets-33891102199">Register Here</a></u></strong></p>\n
LOCATION:Minneapolis MInneapolis\, MN
UID:e.380.175009
SEQUENCE:3
DTSTAMP:20260421T152339Z
URL:http://members.metronorthchamber.org/events/details/breathe-again-175009
END:VEVENT

END:VCALENDAR
