BEGIN:VCALENDAR
VERSION:2.0
PRODID:-//ChamberMaster//Event Calendar 2.0//EN
METHOD:PUBLISH
X-PUBLISHED-TTL:P3D
REFRESH-INTERVAL:P3D
CALSCALE:GREGORIAN
BEGIN:VEVENT
DTSTART:20141206T153000Z
DTEND:20141206T180000Z
X-MICROSOFT-CDO-ALLDAYEVENT:FALSE
SUMMARY:Breakfast with Santa!
DESCRIPTION:Children of ALL AGES are welcome to join us for BREAKFAST WITH SANTA!  Primrose School of The Lakes at Blaine is hosting a breakfast on Saturday\, December 6th\, 9:30am-12:00pm.  Santa will be here to visit with your little ones and have a photo taken\, as well as breakfast being served.\n\nrsvp: 763-767-4222\, and don't forget your camera!\n\nquestions: Bekki
X-ALT-DESC;FMTTYPE=text/html:&nbsp\;&nbsp\;<span style="color: rgb(0\, 128\, 0)\;"><strong>Children of ALL AGES are welcome to join us for BREAKFAST WITH SANTA!&nbsp\; Primrose School of The Lakes at Blaine is hosting a breakfast on </strong></span><strong><span style="color: rgb(255\, 0\, 0)\;">Saturday\, December 6th\, 9:30am-12:00pm.&nbsp\; Santa will be here to visit with your little ones and have a photo taken\, as well as breakfast being served.</span><br />\n<span style="color: rgb(0\, 128\, 0)\;">rsvp: 763-767-4222\, and don&#39\;t forget your camera!<br />\nquestions: Bekki </span></strong>
LOCATION:Primrose School of The Lakes at Blaine 2303 124th Court NE Blaine MN
UID:e.380.152145
SEQUENCE:3
DTSTAMP:20260423T160905Z
URL:http://members.metronorthchamber.org/events/details/breakfast-with-santa-12-06-2014-152145
END:VEVENT

END:VCALENDAR
