BEGIN:VCALENDAR
VERSION:2.0
PRODID:-//ChamberMaster//Event Calendar 2.0//EN
METHOD:PUBLISH
X-PUBLISHED-TTL:P3D
REFRESH-INTERVAL:P3D
CALSCALE:GREGORIAN
BEGIN:VEVENT
DTSTART:20180508T133000Z
DTEND:20180508T150000Z
X-MICROSOFT-CDO-ALLDAYEVENT:FALSE
SUMMARY:Breakfast With Benefits - Social Media Insight Tips
DESCRIPTION:RSVP for Breakfast With Benefits\n\n\n\nJoin us next Tuesday\, May 8th for some great insight into how social media can be used to help you gain insight on your customer demographics and reach. Hosted by Hubbard Interactive at Urban Air Adventure Park from 8:30am - 10am. \n\n\n\nBreakfast snacks to be provided by Keys Cafe - great opportunity to learn\, network and expand your possibilities of partnership. \n\n\n\nRSVP using the link listed above or reach out to Brandy Gilbert at brandy@urbanaircoonrapids.com
X-ALT-DESC;FMTTYPE=text/html:<a href="http://woobox.com/4dq6gw"><span style="color:#FF0000\;">RSVP for Breakfast With Benefits</span></a><br />\n<br />\nJoin us next Tuesday\,&nbsp\;May 8th for some great insight into how social media can be used to help you gain insight on your customer demographics and reach. Hosted by Hubbard Interactive at Urban Air Adventure Park from 8:30am - 10am.&nbsp\;<br />\n<br />\nBreakfast snacks to be provided by Keys Cafe - great opportunity to learn\, network and expand your possibilities of partnership.&nbsp\;<br />\n<br />\n<a href="http://woobox.com/4dq6gw"><span style="color:#FF0000\;">RSVP</span></a><span style="color:#FF0000\;"> </span>using the link listed above or reach out to Brandy Gilbert at brandy@urbanaircoonrapids.com&nbsp\;
LOCATION:Urban Air Adventure Park 10 Coon Rapids Blvd Coon Rapids\, MN 55448
UID:e.380.184822
SEQUENCE:3
DTSTAMP:20260420T212749Z
URL:http://members.metronorthchamber.org/events/details/breakfast-with-benefits-social-media-insight-tips-184822
END:VEVENT

END:VCALENDAR
