BEGIN:VCALENDAR
VERSION:2.0
PRODID:-//ChamberMaster//Event Calendar 2.0//EN
METHOD:PUBLISH
X-PUBLISHED-TTL:P3D
REFRESH-INTERVAL:P3D
CALSCALE:GREGORIAN
BEGIN:VEVENT
DTSTART:20170413T130000Z
DTEND:20170413T150000Z
X-MICROSOFT-CDO-ALLDAYEVENT:FALSE
SUMMARY:Breakfast with Benefits
DESCRIPTION:Breakfast with Benefits - Social Media Update\, Tips and Insights Workshop
X-ALT-DESC;FMTTYPE=text/html:Breakfast with Benefits - Social Media Update\, Tips and Insights Workshop
LOCATION:MetroNorth Chamber of Commerce 9380 Central Avenue NE\, Suite 320 Blaine 55434
UID:e.380.171472
SEQUENCE:3
DTSTAMP:20260421T170140Z
URL:http://members.metronorthchamber.org/events/details/breakfast-with-benefits-171472
END:VEVENT

END:VCALENDAR
