BEGIN:VCALENDAR
VERSION:2.0
PRODID:-//ChamberMaster//Event Calendar 2.0//EN
METHOD:PUBLISH
X-PUBLISHED-TTL:P3D
REFRESH-INTERVAL:P3D
CALSCALE:GREGORIAN
BEGIN:VEVENT
DTSTART:20150514T120000Z
DTEND:20150514T133000Z
X-MICROSOFT-CDO-ALLDAYEVENT:FALSE
SUMMARY:Breakfast Out of the Box
DESCRIPTION:Learn more about Family Promise in Anoka County and issues faced by homeless children and their families. \n\nFeatured speaker -  Cathy ten Broeke\, State Director to Prevent and End Homelessness\n\n\n\nFree event.\n\nDonations requested to support Family Promise.
X-ALT-DESC;FMTTYPE=text/html:Learn more about Family Promise in Anoka County and issues faced by homeless children and their families.&nbsp\;<br />\nFeatured speaker -&nbsp\; Cathy ten Broeke\, State Director to Prevent and End Homelessness<br />\n<br />\nFree event.<br />\nDonations requested to support Family Promise.<br />\n<br />\n&nbsp\;
LOCATION:Meadow Creek Church 3037 Bunker Lake Boulevard NW Andover\, MN 55304
UID:e.380.157233
SEQUENCE:3
DTSTAMP:20260423T083841Z
URL:http://members.metronorthchamber.org/events/details/breakfast-out-of-the-box-05-14-2015-157233
END:VEVENT

END:VCALENDAR
